BEGIN:VCALENDAR
VERSION:2.0
PRODID:-//Sabre//Sabre VObject 4.5.7//EN
CALSCALE:GREGORIAN
BEGIN:VEVENT
UID:sabre-vobject-7efcc582-59fa-4ba3-a85b-c289aafbd17d
DTSTAMP:20260421T175626Z
SUMMARY:BRBA/ABYA Webinar: SmartSearch - Know Your Client
DESCRIPTION:Hosted by British Marine Boat Retailers &amp\; Brokers Associat
 ion (BRBA) and the Association of Brokers and Yacht Agents (ABYA).\n\nStay
  ahead of compliance with SmartSearch. Learn how this powerful tool can st
 reamline your due diligence and AML checks\, saving you time and reducing 
 risk.\n\nEvent details and booking information coming soon!\n
X-ALT-DESC:FMTTYPE=text/html:<!DOCTYPE HTML PUBLIC "-//W3C//DTD HTML 3.2//E
 N"><HTML><p>Hosted by <a href="https://www.britishmarine.co.uk/membership/
 associations/british-marine-boat-retailers-and-brokers-association">Britis
 h Marine Boat Retailers &amp\; Brokers Association (BRBA)</a> and the <a h
 ref="https://abya.co.uk/">Association of Brokers and Yacht Agents (ABYA)</
 a>.</p>\n\n<p>Stay ahead of compliance with SmartSearch. Learn how this po
 werful tool can streamline your due diligence and AML checks\, saving you 
 time and reducing risk.</p>\n\n<h4 style="text-align: center\;"><span styl
 e="color:#c0392b\;">Event details and booking information coming soon!</sp
 an></h4>\n</HTML>
CREATED;TZID=Europe/London:20251111T160116
URL;VALUE=URI:https://www.britishmarine.co.uk/membership/events-and-courses
 /brbaabya-webinar-smartsearch-know-your-client
DTSTART;TZID=Europe/London:20251209T100000
DTEND;TZID=Europe/London:20251209T110000
SEQUENCE:0
END:VEVENT
END:VCALENDAR
