BEGIN:VCALENDAR
VERSION:2.0
PRODID:-//Sabre//Sabre VObject 4.5.7//EN
CALSCALE:GREGORIAN
BEGIN:VEVENT
UID:sabre-vobject-8716f31c-3ac9-4125-83dd-1b0cdb069ca6
DTSTAMP:20260421T181246Z
SUMMARY:British Marine Boat Retailers and Brokers Committee Meeting
DESCRIPTION:The committee of&nbsp\;British Marine&nbsp\;Boat Retailers and 
 Brokers will be meeting to discuss ongoing projects and plans for the sect
 or.&nbsp\;\n\nFor further information\, please contact secretary Beckie Ha
 rris on&nbsp\;bharris@britishmarine.co.uk\n
X-ALT-DESC:FMTTYPE=text/html:<!DOCTYPE HTML PUBLIC "-//W3C//DTD HTML 3.2//E
 N"><HTML><p>The committee of&nbsp\;British Marine&nbsp\;Boat Retailers and
  Brokers will be meeting to discuss ongoing projects and plans for the sec
 tor.&nbsp\;</p>\n\n<p>For further information\, please contact secretary B
 eckie Harris on&nbsp\;<a aria-label="Link bharris@britishmarine.co.uk" hre
 f="mailto:bharris@britishmarine.co.uk" id="menurqq" rel="noreferrer noopen
 er" target="_blank" title="mailto:bharris@britishmarine.co.uk">bharris@bri
 tishmarine.co.uk</a></p>\n</HTML>
CREATED;TZID=Europe/London:20251103T104431
URL;VALUE=URI:https://www.britishmarine.co.uk/membership/events-and-courses
 /british-marine-boat-retailers-and-brokers-committee-meeting-3
DTSTART;TZID=Europe/London:20260407T100000
DTEND;TZID=Europe/London:20260407T120000
SEQUENCE:0
END:VEVENT
END:VCALENDAR
