BEGIN:VCALENDAR
VERSION:2.0
PRODID:-//Sabre//Sabre VObject 4.5.7//EN
CALSCALE:GREGORIAN
BEGIN:VEVENT
UID:sabre-vobject-c3edf40c-2a7f-4501-ae6f-9b5165aa8f2f
DTSTAMP:20260421T180732Z
SUMMARY:Commercial Marine Committee Meeting
DESCRIPTION:Date: Tuesday 4th August 2026\n\nTime: 10.00 - 12.00\n\nWhere: 
 Teams\n\nContact: Lisa Jupp ljupp@britishmarine.co.uk\n
X-ALT-DESC:FMTTYPE=text/html:<!DOCTYPE HTML PUBLIC "-//W3C//DTD HTML 3.2//E
 N"><HTML><p>Date: Tuesday 4th August 2026</p>\n\n<p>Time: 10.00 - 12.00</p
 >\n\n<p>Where: Teams</p>\n\n<p>Contact: Lisa Jupp ljupp@britishmarine.co.u
 k</p>\n</HTML>
CREATED;TZID=Europe/London:20251210T155112
URL;VALUE=URI:https://www.britishmarine.co.uk/membership/events-and-courses
 /commercial-marine-committee-meeting-4
DTSTART;TZID=Europe/London:20260804T000000
DTEND;TZID=Europe/London:20260804T235959
SEQUENCE:0
END:VEVENT
END:VCALENDAR
