BEGIN:VCALENDAR
VERSION:2.0
PRODID:-//Sabre//Sabre VObject 4.5.7//EN
CALSCALE:GREGORIAN
BEGIN:VEVENT
UID:sabre-vobject-cc601ec2-79d9-4ea3-b74a-04d62e158006
DTSTAMP:20260421T180909Z
SUMMARY:Commercial Marine AGM & Networking Breakfast at Seawork
DESCRIPTION:Date: Tuesday 9th June 2026\n\nTime: 08.00 - 09.00\n\nWhere: BM
  Seawork Stand\n\nContact: Lisa Jupp ljupp@britishmarine.co.uk\n
X-ALT-DESC:FMTTYPE=text/html:<!DOCTYPE HTML PUBLIC "-//W3C//DTD HTML 3.2//E
 N"><HTML><p>Date: Tuesday 9th June 2026</p>\n\n<p>Time: 08.00 - 09.00</p>\
 n\n<p>Where: BM Seawork Stand</p>\n\n<p>Contact: Lisa Jupp ljupp@britishma
 rine.co.uk</p>\n</HTML>
CREATED;TZID=Europe/London:20251210T155349
URL;VALUE=URI:https://www.britishmarine.co.uk/membership/events-and-courses
 /commercial-marine-agm-and-networking-breakfast-seawork-1
DTSTART;TZID=Europe/London:20260609T000000
DTEND;TZID=Europe/London:20260609T235959
SEQUENCE:0
END:VEVENT
END:VCALENDAR
