BEGIN:VCALENDAR
VERSION:2.0
PRODID:-//Sabre//Sabre VObject 4.5.7//EN
CALSCALE:GREGORIAN
BEGIN:VEVENT
UID:sabre-vobject-2d49d00e-7da8-4238-ac87-5599120a984d
DTSTAMP:20260421T181318Z
SUMMARY:British Marine Midlands Association Committee Meeting 
DESCRIPTION:Date: Wednesday 18th March 2026\n\nTime: 10.00 - 12.00\n\nWhere
 : Zoom\n\nContact: Lisa Jupp ljupp@britishmarine.co.uk\n
X-ALT-DESC:FMTTYPE=text/html:<!DOCTYPE HTML PUBLIC "-//W3C//DTD HTML 3.2//E
 N"><HTML><p>Date: Wednesday 18th March 2026</p>\n\n<p>Time: 10.00 - 12.00<
 /p>\n\n<p>Where: Zoom</p>\n\n<p>Contact: Lisa Jupp ljupp@britishmarine.co.
 uk</p>\n</HTML>
CREATED;TZID=Europe/London:20251210T160248
URL;VALUE=URI:https://www.britishmarine.co.uk/membership/events-and-courses
 /british-marine-midlands-association-committee-meeting-2
DTSTART;TZID=Europe/London:20260318T000000
DTEND;TZID=Europe/London:20260318T235959
SEQUENCE:0
END:VEVENT
END:VCALENDAR
