BEGIN:VCALENDAR
VERSION:2.0
PRODID:-//Sabre//Sabre VObject 4.5.7//EN
CALSCALE:GREGORIAN
BEGIN:VEVENT
UID:sabre-vobject-c9e43ffc-b4c3-4ce1-a3a4-6c37b3dca6b7
DTSTAMP:20260421T181310Z
SUMMARY:British Marine Midlands Association Committee Meeting 
DESCRIPTION:Date: Wednesday 8th July 2026\n\nTime: 10.00 - 12.00\n\nWhere: 
 Zoom\n\nContact: Lisa Jupp ljupp@britishmarine.co.uk\n
X-ALT-DESC:FMTTYPE=text/html:<!DOCTYPE HTML PUBLIC "-//W3C//DTD HTML 3.2//E
 N"><HTML><p>Date: Wednesday 8th July 2026</p>\n\n<p>Time: 10.00 - 12.00</p
 >\n\n<p>Where: Zoom</p>\n\n<p>Contact: Lisa Jupp ljupp@britishmarine.co.uk
 </p>\n</HTML>
CREATED;TZID=Europe/London:20251210T160449
URL;VALUE=URI:https://www.britishmarine.co.uk/membership/events-and-courses
 /british-marine-midlands-association-committee-meeting-4
DTSTART;TZID=Europe/London:20260708T000000
DTEND;TZID=Europe/London:20260708T235959
SEQUENCE:0
END:VEVENT
END:VCALENDAR
