BEGIN:VCALENDAR
VERSION:2.0
PRODID:-//Sabre//Sabre VObject 4.5.7//EN
CALSCALE:GREGORIAN
BEGIN:VEVENT
UID:sabre-vobject-13cbc250-753b-494e-be52-e66fed888138
DTSTAMP:20260421T180717Z
SUMMARY:British Marine Professional Services Association Committee Meeting
DESCRIPTION:Date: Wednesday 28th January 2026\n\nTime: 10.00 - 12.00\n\nWhe
 re: Teams\n\nContact: Lisa Jupp ljupp@britishmarine.co.uk\n
X-ALT-DESC:FMTTYPE=text/html:<!DOCTYPE HTML PUBLIC "-//W3C//DTD HTML 3.2//E
 N"><HTML><p>Date: Wednesday 28th January 2026</p>\n\n<p>Time: 10.00 - 12.0
 0</p>\n\n<p>Where: Teams</p>\n\n<p>Contact: Lisa Jupp ljupp@britishmarine.
 co.uk</p>\n</HTML>
CREATED;TZID=Europe/London:20251211T102917
URL;VALUE=URI:https://www.britishmarine.co.uk/membership/events-and-courses
 /british-marine-professional-services-committee-meeting-1
DTSTART;TZID=Europe/London:20260128T000000
DTEND;TZID=Europe/London:20260128T235959
SEQUENCE:0
END:VEVENT
END:VCALENDAR
