BEGIN:VCALENDAR
VERSION:2.0
PRODID:-//Sabre//Sabre VObject 4.5.7//EN
CALSCALE:GREGORIAN
BEGIN:VEVENT
UID:sabre-vobject-c9fc9dca-9aeb-4770-9781-d098fa159313
DTSTAMP:20260421T180931Z
SUMMARY:British Marine Professional Services Association Committee Meeting
DESCRIPTION:Date: Tuesday 21st July 2026\n\nTime: 10.00 - 12.00\n\nWhere: T
 eams\n\nContact: Lisa Jupp ljupp@britishmarine.co.uk\n
X-ALT-DESC:FMTTYPE=text/html:<!DOCTYPE HTML PUBLIC "-//W3C//DTD HTML 3.2//E
 N"><HTML><p>Date: Tuesday 21st July 2026</p>\n\n<p>Time: 10.00 - 12.00</p>
 \n\n<p>Where: Teams</p>\n\n<p>Contact: Lisa Jupp ljupp@britishmarine.co.uk
 </p>\n</HTML>
CREATED;TZID=Europe/London:20251211T103155
URL;VALUE=URI:https://www.britishmarine.co.uk/membership/events-and-courses
 /british-marine-professional-services-association-committee-meeting-5
DTSTART;TZID=Europe/London:20260721T000000
DTEND;TZID=Europe/London:20260721T235959
SEQUENCE:0
END:VEVENT
END:VCALENDAR
