BEGIN:VCALENDAR
VERSION:2.0
PRODID:-//Sabre//Sabre VObject 4.5.7//EN
CALSCALE:GREGORIAN
BEGIN:VEVENT
UID:sabre-vobject-65f54bdd-afe5-4648-ab28-a42b6b41c88e
DTSTAMP:20260421T180641Z
SUMMARY:British Marine Professional Services Association Committee Meeting
DESCRIPTION:Date: Tuesday 13th October 2026\n\nTime: 10.00 - 12.00\n\nWhere
 : Teams\n\nContact: Lisa Jupp ljupp@britishmarine.co.uk\n
X-ALT-DESC:FMTTYPE=text/html:<!DOCTYPE HTML PUBLIC "-//W3C//DTD HTML 3.2//E
 N"><HTML><p>Date: Tuesday 13th October 2026</p>\n\n<p>Time: 10.00 - 12.00<
 /p>\n\n<p>Where: Teams</p>\n\n<p>Contact: Lisa Jupp ljupp@britishmarine.co
 .uk</p>\n</HTML>
CREATED;TZID=Europe/London:20251211T105315
URL;VALUE=URI:https://www.britishmarine.co.uk/membership/events-and-courses
 /british-marine-professional-services-association-committee-meeting-6
DTSTART;TZID=Europe/London:20261013T000000
DTEND;TZID=Europe/London:20261013T235959
SEQUENCE:0
END:VEVENT
END:VCALENDAR
