BEGIN:VCALENDAR
VERSION:2.0
PRODID:-//Sabre//Sabre VObject 4.5.7//EN
CALSCALE:GREGORIAN
BEGIN:VEVENT
UID:sabre-vobject-58a0f50d-87f2-4bc7-8acc-e01cf4cf7ee3
DTSTAMP:20260421T180711Z
SUMMARY:British Marine Professional Services Association AGM & Committee Lu
 nch
DESCRIPTION:Date: Wednesday 23rd September 2026\n\nTime: 10.00 - 12.00\n\nW
 here: In-person\, venue TBC\n\nContact: Lisa Jupp ljupp@britishmarine.co.u
 k\n
X-ALT-DESC:FMTTYPE=text/html:<!DOCTYPE HTML PUBLIC "-//W3C//DTD HTML 3.2//E
 N"><HTML><p>Date: Wednesday 23rd September 2026</p>\n\n<p>Time: 10.00 - 12
 .00</p>\n\n<p>Where: In-person\, venue TBC</p>\n\n<p>Contact: Lisa Jupp lj
 upp@britishmarine.co.uk</p>\n</HTML>
CREATED;TZID=Europe/London:20251211T113035
URL;VALUE=URI:https://www.britishmarine.co.uk/membership/events-and-courses
 /british-marine-professional-services-association-agm-and-committee-lunch
DTSTART;TZID=Europe/London:20260923T000000
DTEND;TZID=Europe/London:20260923T235959
SEQUENCE:0
END:VEVENT
END:VCALENDAR
