BEGIN:VCALENDAR
VERSION:2.0
PRODID:-//Sabre//Sabre VObject 4.5.7//EN
CALSCALE:GREGORIAN
BEGIN:VEVENT
UID:sabre-vobject-2d7dcf97-2060-4770-bc1f-0e622057e62c
DTSTAMP:20260421T181450Z
SUMMARY:British Marine Access to Boating Committee Meeting & Member Event
DESCRIPTION:Date: Tuesday 23rd June 2026\n\nTime: 10.00 - 14.00\n\nWhere: R
 ockley\, Poole\n\nContact: Lisa Jupp ljupp@britishmarine.co.uk\n
X-ALT-DESC:FMTTYPE=text/html:<!DOCTYPE HTML PUBLIC "-//W3C//DTD HTML 3.2//E
 N"><HTML><p>Date: Tuesday 23rd June 2026</p>\n\n<p>Time: 10.00 - 14.00</p>
 \n\n<p>Where: Rockley\, Poole</p>\n\n<p>Contact: Lisa Jupp ljupp@britishma
 rine.co.uk</p>\n</HTML>
CREATED;TZID=Europe/London:20260331T162657
URL;VALUE=URI:https://www.britishmarine.co.uk/membership/events-and-courses
 /british-marine-access-boating-committee-meeting-2
DTSTART;TZID=Europe/London:20260623T000000
DTEND;TZID=Europe/London:20260623T235959
SEQUENCE:0
END:VEVENT
END:VCALENDAR
