BEGIN:VCALENDAR
VERSION:2.0
PRODID:-//Sabre//Sabre VObject 4.5.7//EN
CALSCALE:GREGORIAN
BEGIN:VEVENT
UID:sabre-vobject-6ee8228e-9b0c-4f8d-a750-38e0211f7911
DTSTAMP:20260421T180909Z
SUMMARY:British Marine Access to Boating Committee Meeting
DESCRIPTION:Date: Tuesday 25th August 2026\n\nTime: 10.00 - 12.00\n\nWhere:
  Zoom\n\nContact: Lisa Jupp ljupp@britishmarine.co.uk\n
X-ALT-DESC:FMTTYPE=text/html:<!DOCTYPE HTML PUBLIC "-//W3C//DTD HTML 3.2//E
 N"><HTML><p>Date: Tuesday 25th August 2026</p>\n\n<p>Time: 10.00 - 12.00</
 p>\n\n<p>Where: Zoom</p>\n\n<p>Contact: Lisa Jupp ljupp@britishmarine.co.u
 k</p>\n</HTML>
CREATED;TZID=Europe/London:20251211T113135
URL;VALUE=URI:https://www.britishmarine.co.uk/membership/events-and-courses
 /british-marine-access-boating-committee-meeting-3
DTSTART;TZID=Europe/London:20260825T000000
DTEND;TZID=Europe/London:20260825T235959
SEQUENCE:0
END:VEVENT
END:VCALENDAR
