BEGIN:VCALENDAR
VERSION:2.0
PRODID:-//Sabre//Sabre VObject 4.5.7//EN
CALSCALE:GREGORIAN
BEGIN:VEVENT
UID:sabre-vobject-b165f0bf-004d-4ed4-86ae-c99136a27857
DTSTAMP:20260421T180930Z
SUMMARY:British Marine Access to Boating Committee Meeting
DESCRIPTION:Date: Tuesday 3rd November 2026\n\nTime: 10.00 - 12.00\n\nWhere
 : Zoom\n\nContact: Lisa Jupp ljupp@britishmarine.co.uk\n
X-ALT-DESC:FMTTYPE=text/html:<!DOCTYPE HTML PUBLIC "-//W3C//DTD HTML 3.2//E
 N"><HTML><p>Date: Tuesday 3rd November 2026</p>\n\n<p>Time: 10.00 - 12.00<
 /p>\n\n<p>Where: Zoom</p>\n\n<p>Contact: Lisa Jupp ljupp@britishmarine.co.
 uk</p>\n</HTML>
CREATED;TZID=Europe/London:20251211T113242
URL;VALUE=URI:https://www.britishmarine.co.uk/membership/events-and-courses
 /british-marine-access-boating-committee-meeting-4
DTSTART;TZID=Europe/London:20261103T000000
DTEND;TZID=Europe/London:20261103T235959
SEQUENCE:0
END:VEVENT
END:VCALENDAR
