BEGIN:VCALENDAR
VERSION:2.0
PRODID:-//Sabre//Sabre VObject 4.5.7//EN
CALSCALE:GREGORIAN
BEGIN:VEVENT
UID:sabre-vobject-1769c2d3-5af5-4f5a-9e93-3daaa19e454e
DTSTAMP:20260421T180250Z
SUMMARY:British Marine Access to Boating AGM & Networking Breakfast
DESCRIPTION:Date: Tuesday 22nd September 2026\n\nTime: 10.00 - 11.00\n\nWhe
 re: In-person at Southampton International Boat Show - Quarterdeck\n\nCont
 act: Lisa Jupp ljupp@britishmarine.co.uk\n
X-ALT-DESC:FMTTYPE=text/html:<!DOCTYPE HTML PUBLIC "-//W3C//DTD HTML 3.2//E
 N"><HTML><p>Date: Tuesday 22nd September 2026</p>\n\n<p>Time: 10.00 - 11.0
 0</p>\n\n<p>Where: In-person at Southampton International Boat Show - Quar
 terdeck</p>\n\n<p>Contact: Lisa Jupp ljupp@britishmarine.co.uk</p>\n</HTML
 >
CREATED;TZID=Europe/London:20251211T113419
URL;VALUE=URI:https://www.britishmarine.co.uk/membership/events-and-courses
 /british-marine-access-boating-agm-and-networking-breakfast
DTSTART;TZID=Europe/London:20260922T000000
DTEND;TZID=Europe/London:20260922T235959
SEQUENCE:0
END:VEVENT
END:VCALENDAR
