BEGIN:VCALENDAR
VERSION:2.0
PRODID:-//Sabre//Sabre VObject 4.5.7//EN
CALSCALE:GREGORIAN
BEGIN:VEVENT
UID:sabre-vobject-b8e0ac1d-b1f1-4ada-adff-c90f0386a9e9
DTSTAMP:20260423T081858Z
SUMMARY:TYHA Code of Practice Tour - Scotland (North) Caley Marina\, Invern
 ess
DESCRIPTION:We are delighted to invite TYHA members and guests to attend on
 e of our complimentary TYHA Code of Practice events and networking opportu
 nity.\n&nbsp\;\n\n\n	Find out about the revised 8th edition TYHA Code of P
 ractice\n	Updates on the new Marinas &amp\; Boatyards Health &amp\; Safety
  Code of Practice and Port Marine Safety Code\n	This event includes compli
 mentary Dolphin Boat Tour\n\n\n\nTo secure your complimentary place or fin
 d out more please contact Hayley Cloke: hcloke@britishmarine.co.uk\n
X-ALT-DESC:FMTTYPE=text/html:<!DOCTYPE HTML PUBLIC "-//W3C//DTD HTML 3.2//E
 N"><HTML><h3>We are delighted to invite TYHA members and guests to attend 
 one of our complimentary TYHA Code of Practice events and networking oppor
 tunity.<br />\n&nbsp\;</h3>\n\n<ul>\n	<li>Find out about the revised 8th e
 dition TYHA Code of Practice</li>\n	<li>Updates on the new Marinas &amp\; 
 Boatyards Health &amp\; Safety Code of Practice and Port Marine Safety Cod
 e</li>\n	<li>This event includes complimentary Dolphin Boat Tour</li>\n</u
 l>\n\n<p><br />\nTo secure your complimentary place or find out more pleas
 e contact Hayley Cloke: <a href="mailto:hcloke@britishmarine.co.uk">hcloke
 @britishmarine.co.uk</a></p>\n</HTML>
CREATED;TZID=Europe/London:20260202T131552
URL;VALUE=URI:https://www.britishmarine.co.uk/membership/events-and-courses
 /tyha-code-practice-tour-scotland-north-caley-marina
DTSTART;TZID=Europe/London:20260428T100000
DTEND;TZID=Europe/London:20260428T160000
SEQUENCE:0
END:VEVENT
END:VCALENDAR
