BEGIN:VCALENDAR
VERSION:2.0
PRODID:-//Sabre//Sabre VObject 4.5.7//EN
CALSCALE:GREGORIAN
BEGIN:VEVENT
UID:sabre-vobject-90323838-801a-4d49-a9be-c7c3d9890875
DTSTAMP:20260421T181011Z
SUMMARY:TYHA Code of Practice Tour - Scotland (West) Portavadie Marina
DESCRIPTION:We are delighted to invite TYHA members and guests to attend on
 e of our complimentary TYHA Code of Practice events and networking opportu
 nity.\n&nbsp\;\n\n\n	Find out about the revised 8th edition TYHA Code of P
 ractice\n	Updates on the new Marinas &amp\; Boatyards Health &amp\; Safety
  Code of Practice and Port Marine Safety Code\n\n\n\nTo secure your compli
 mentary place or find out more please contact Hayley Cloke: hcloke@british
 marine.co.uk\n
X-ALT-DESC:FMTTYPE=text/html:<!DOCTYPE HTML PUBLIC "-//W3C//DTD HTML 3.2//E
 N"><HTML><h3>We are delighted to invite TYHA members and guests to attend 
 one of our complimentary TYHA Code of Practice events and networking oppor
 tunity.<br />\n&nbsp\;</h3>\n\n<ul>\n	<li>Find out about the revised 8th e
 dition TYHA Code of Practice</li>\n	<li>Updates on the new Marinas &amp\; 
 Boatyards Health &amp\; Safety Code of Practice and Port Marine Safety Cod
 e</li>\n</ul>\n\n<p><br />\nTo secure your complimentary place or find out
  more please contact Hayley Cloke: <a href="mailto:hcloke@britishmarine.co
 .uk">hcloke@britishmarine.co.uk</a></p>\n</HTML>
CREATED;TZID=Europe/London:20260202T131650
URL;VALUE=URI:https://www.britishmarine.co.uk/membership/events-and-courses
 /tyha-code-practice-tour-scotland-west-portavadie-marina
DTSTART;TZID=Europe/London:20260507T130000
DTEND;TZID=Europe/London:20260507T160000
SEQUENCE:0
END:VEVENT
END:VCALENDAR
