BEGIN:VCALENDAR
VERSION:2.0
PRODID:-//Sabre//Sabre VObject 4.5.7//EN
CALSCALE:GREGORIAN
BEGIN:VEVENT
UID:sabre-vobject-57d64e36-287c-489f-ae45-1b909a9c385b
DTSTAMP:20260420T080833Z
SUMMARY:British Marine Inland Boating Committee Meeting
DESCRIPTION:The committee of British Marine Inland Boating will be meeting 
 to discuss ongoing projects and plans for the sector.&nbsp\;\n\nFor furthe
 r information\, please contact secretary Nickie Sanders on&nbsp\;nsanders@
 britishmarine.com\n
X-ALT-DESC:FMTTYPE=text/html:<!DOCTYPE HTML PUBLIC "-//W3C//DTD HTML 3.2//E
 N"><HTML><p>The committee of British Marine Inland Boating will be meeting
  to discuss ongoing projects and plans for the sector.&nbsp\;</p>\n\n<p>Fo
 r further information\, please contact secretary Nickie Sanders on&nbsp\;n
 sanders@britishmarine.com</p>\n</HTML>
CREATED;TZID=Europe/London:20240412T154504
URL;VALUE=URI:https://www.britishmarine.co.uk/events-and-courses/british-ma
 rine-inland-boating-committee-meeting
DTSTART;TZID=Europe/London:20240424T133000
DTEND;TZID=Europe/London:20240424T153000
SEQUENCE:0
END:VEVENT
END:VCALENDAR
