BEGIN:VCALENDAR
VERSION:2.0
PRODID:-//Sabre//Sabre VObject 4.5.7//EN
CALSCALE:GREGORIAN
BEGIN:VEVENT
UID:sabre-vobject-1d4184c2-ce63-4fff-80d1-8d719ef61c22
DTSTAMP:20260421T175932Z
SUMMARY:British Marine Electrics & Electronics AGM & Member Drop-In
DESCRIPTION:Date: Tuesday 19 May\n\nTime: 14.00 - 15.00\n\nLocation: Online
  on Microsoft Teams only for 2026\n\nContact: Lisa Jupp on ljupp@britishma
 rine.co.uk\n\nAGM to vote for new Committee and Association Member Drop-In
  to meet the new committee and have the opportunity to discuss important t
 opics and raise any issues.\n
X-ALT-DESC:FMTTYPE=text/html:<!DOCTYPE HTML PUBLIC "-//W3C//DTD HTML 3.2//E
 N"><HTML><p>Date: Tuesday 19 May</p>\n\n<p>Time: 14.00 - 15.00</p>\n\n<p>L
 ocation: Online on Microsoft Teams only for 2026</p>\n\n<p>Contact: Lisa J
 upp on ljupp@britishmarine.co.uk</p>\n\n<p>AGM to vote for new Committee a
 nd Association Member Drop-In to meet the new committee and have the oppor
 tunity to discuss important topics and raise any issues.</p>\n</HTML>
CREATED;TZID=Europe/London:20260410T111750
URL;VALUE=URI:https://www.britishmarine.co.uk/membership/events-and-courses
 /british-marine-electrics-and-electronics-agm-and-member-drop
DTSTART;TZID=Europe/London:20260519T000000
DTEND;TZID=Europe/London:20260519T235959
SEQUENCE:0
END:VEVENT
END:VCALENDAR
