BEGIN:VCALENDAR
VERSION:2.0
PRODID:-//Sabre//Sabre VObject 4.5.7//EN
CALSCALE:GREGORIAN
BEGIN:VEVENT
UID:sabre-vobject-4a9b9ad3-8c38-476b-8cd6-70800980f0b6
DTSTAMP:20260421T180513Z
SUMMARY:British Marine Passenger Boat Association Committee Meeting
DESCRIPTION:Date: Tuesday 21 April\n\nTime: 10.00 - 12.00\n\nLocation: Micr
 osoft Teams\n\nContact: Lisa Jupp at ljupp@britishmarine.co.uk\n
X-ALT-DESC:FMTTYPE=text/html:<!DOCTYPE HTML PUBLIC "-//W3C//DTD HTML 3.2//E
 N"><HTML><p>Date: Tuesday 21 April</p>\n\n<p>Time: 10.00 - 12.00</p>\n\n<p
 >Location: Microsoft Teams</p>\n\n<p>Contact: Lisa Jupp at ljupp@britishma
 rine.co.uk</p>\n</HTML>
CREATED;TZID=Europe/London:20260410T113126
URL;VALUE=URI:https://www.britishmarine.co.uk/membership/events-and-courses
 /british-marine-passenger-boat-association-committee-meeting-3
DTSTART;TZID=Europe/London:20260421T000000
DTEND;TZID=Europe/London:20260421T235959
SEQUENCE:0
END:VEVENT
END:VCALENDAR
