BEGIN:VCALENDAR
VERSION:2.0
PRODID:-//Sabre//Sabre VObject 4.5.7//EN
CALSCALE:GREGORIAN
BEGIN:VEVENT
UID:sabre-vobject-2c013501-6995-4039-9729-2f65f2a51e6d
DTSTAMP:20260421T180535Z
SUMMARY:British Marine Trades Association 2026 Awards Dinner
DESCRIPTION:The British Marine Trades Association (BMTA) Awards Dinner is a
  prestigious annual event which celebrates the best and brightest in the m
 arine industry as we honour outstanding achievements within the sector.\n\
 nWe are pleased to announce that the British Marine Trades Association Awa
 rds Dinner is set to return to Southampton on Monday 21 September\, 2026.\
 n\nTaking place at voco Southampton by IHG\, the BMTA Awards Dinner is a s
 tandout event in the marine calendar. Each year it welcomes professionals\
 , companies\, and stakeholders within the UK marine industry\, particularl
 y those involved in chandlery\, wholesaling\, distribution\, and manufactu
 ring.\n\nTickets on sale soon.\n\nFor further information\, please contact
  bharris@britishmarine.co.uk\n
X-ALT-DESC:FMTTYPE=text/html:<!DOCTYPE HTML PUBLIC "-//W3C//DTD HTML 3.2//E
 N"><HTML><p>The British Marine Trades Association (BMTA) Awards Dinner is 
 a prestigious annual event which celebrates the best and brightest in the 
 marine industry as we honour outstanding achievements within the sector.<b
 r />\n<br />\nWe are pleased to announce that the British Marine Trades As
 sociation Awards Dinner is set to return to Southampton on Monday 21 Septe
 mber\, 2026.<br />\n<br />\nTaking place at voco Southampton by IHG\, the 
 BMTA Awards Dinner is a standout event in the marine calendar. Each year i
 t welcomes professionals\, companies\, and stakeholders within the UK mari
 ne industry\, particularly those involved in chandlery\, wholesaling\, dis
 tribution\, and manufacturing.<br />\n<br />\nTickets on sale soon.<br />\
 n<br />\nFor further information\, please contact <a href="http://mailto:b
 harris@britishmarine.co.uk">bharris@britishmarine.co.uk</a></p>\n</HTML>
CREATED;TZID=Europe/London:20260410T141423
URL;VALUE=URI:https://www.britishmarine.co.uk/membership/events-and-courses
 /british-marine-trades-association-2026-awards-dinner
DTSTART;TZID=Europe/London:20260921T184500
DTEND;TZID=Europe/London:20260921T233000
SEQUENCE:0
END:VEVENT
END:VCALENDAR
