BEGIN:VCALENDAR
VERSION:2.0
PRODID:-//Sabre//Sabre VObject 4.5.7//EN
CALSCALE:GREGORIAN
BEGIN:VEVENT
UID:sabre-vobject-7833c0a3-88c1-4476-aab1-73485346fa39
DTSTAMP:20260421T181057Z
SUMMARY:British Marine Boat Retailers and Brokers Annual Dinner 2026
DESCRIPTION:We are pleased to announce that the British Marine Boat Retaile
 rs and Brokers Annual Dinner is set to return to Southampton on Saturday 1
 9 September\, 2026.\n\nThis flagship dinner brings together professionals 
 from across the brokerage sector and the wider marine industry for an even
 ing of networking\, conversation\, and shared insights.\n\nLocation TBC. T
 ickets on sale soon.\n\nFor further information\, please contact bharris@b
 ritishmarine.co.uk\n
X-ALT-DESC:FMTTYPE=text/html:<!DOCTYPE HTML PUBLIC "-//W3C//DTD HTML 3.2//E
 N"><HTML><p>We are pleased to announce that the British Marine Boat Retail
 ers and Brokers Annual Dinner is set to return to Southampton on Saturday 
 19 September\, 2026.<br />\n<br />\nThis flagship dinner brings together p
 rofessionals from across the brokerage sector and the wider marine industr
 y for an evening of networking\, conversation\, and shared insights.<br />
 \n<br />\nLocation TBC. Tickets on sale soon.<br />\n<br />\nFor further i
 nformation\, please contact bharris@britishmarine.co.uk</p>\n</HTML>
CREATED;TZID=Europe/London:20260410T141844
URL;VALUE=URI:https://www.britishmarine.co.uk/membership/events-and-courses
 /british-marine-boat-retailers-and-brokers-annual-dinner-2
DTSTART;TZID=Europe/London:20260919T184500
DTEND;TZID=Europe/London:20260919T233000
SEQUENCE:0
END:VEVENT
END:VCALENDAR
