BEGIN:VCALENDAR
VERSION:2.0
PRODID:-//Sabre//Sabre VObject 4.5.7//EN
CALSCALE:GREGORIAN
BEGIN:VEVENT
UID:sabre-vobject-243e8209-1416-4062-a068-b27a6627596a
DTSTAMP:20260424T160319Z
SUMMARY:Networking Drinks at Crick Boat Show
DESCRIPTION:Join us for networking drinks on Friday 22 May at 4pm.&nbsp\;\n
 \nPlease click the link below for more information:\n\nRaise a glass at Cr
 ick: Join us for Friday drinks!&nbsp\;\n
X-ALT-DESC:FMTTYPE=text/html:<!DOCTYPE HTML PUBLIC "-//W3C//DTD HTML 3.2//E
 N"><HTML><p>Join us for networking drinks on Friday 22 May at 4pm.&nbsp\;<
 /p>\n\n<p>Please click the link below for more information:</p>\n\n<p><a h
 ref="https://www.britishmarine.co.uk/news/2026/march/raise-glass-crick-joi
 n-us-friday-drinks">Raise a glass at Crick: Join us for Friday drinks!</a>
 &nbsp\;</p>\n</HTML>
CREATED;TZID=Europe/London:20260424T111521
URL;VALUE=URI:https://www.britishmarine.co.uk/membership/events-and-courses
 /networking-drinks-crick-boat-show
DTSTART;TZID=Europe/London:20260522T000000
DTEND;TZID=Europe/London:20260522T235959
SEQUENCE:0
END:VEVENT
END:VCALENDAR
