BEGIN:VCALENDAR
VERSION:2.0
PRODID:-//Sabre//Sabre VObject 4.5.7//EN
CALSCALE:GREGORIAN
BEGIN:VEVENT
UID:sabre-vobject-44005d21-f4c7-43d7-a51f-bf9ed93ab6b0
DTSTAMP:20260421T191530Z
SUMMARY:British Marine South West AGM and Networking Workshop
DESCRIPTION:The AGM for British Marine South West will be taking place\, fo
 llowed by a workshop session and networking\, and will all be taking place
  at Royal Torquay Yacht Club&nbsp\;https://rtyc.org/.\n\nImportant matters
 \, such as end of life boats\, decarbonisation funding and grants\, and ne
 urodiversity in the workplace will be discussed\, with further details to 
 follow.\n\nThis event is open to British Marine members free of charge.\n\
 nPlease register here:&nbsp\;https://www.eventbrite.co.uk\n\nNon-members a
 re also welcome\, please contact acox@britishmarine.co.uk&nbsp\;directly i
 f you would like to invite anyone not currently employed at a member compa
 ny.\n\nGMaps\n
X-ALT-DESC:FMTTYPE=text/html:<!DOCTYPE HTML PUBLIC "-//W3C//DTD HTML 3.2//E
 N"><HTML><p>The AGM for British Marine South West will be taking place\, f
 ollowed by a workshop session and networking\, and will all be taking plac
 e at Royal Torquay Yacht Club&nbsp\;<a href="https://urldefense.proofpoint
 .com/v2/url?u=https-3A__rtyc.org_&amp\;d=DwMFaQ&amp\;c=euGZstcaTDllvimEN8b
 7jXrwqOf-v5A_CdpgnVfiiMM&amp\;r=XWA5DcgiWbeRKyGDxHvf19byTDmXIDdu0pWPnAgIjB
 Y&amp\;m=E0nNleE5xTZBswOST6QzLoiWRw3h7GPJsUz2OwrtMw5MncfUR6NarId1C9wcJrkl&
 amp\;s=31FdyD-dGNi8l9aA9P3JXVEICjVKc82NA_iceSAeVCI&amp\;e=">https://rtyc.o
 rg/</a>.</p>\n\n<p>Important matters\, such as end of life boats\, decarbo
 nisation funding and grants\, and neurodiversity in the workplace will be 
 discussed\, with further details to follow.</p>\n\n<p>This event is open t
 o British Marine members free of charge.</p>\n\n<p>Please register here:&n
 bsp\;<a href="https://www.eventbrite.co.uk/e/british-marine-south-west-spr
 ing-networking-tickets-884784774077?aff=oddtdtcreator">https://www.eventbr
 ite.co.uk</a></p>\n\n<p>Non-members are also welcome\, please contact <a h
 ref="mailto:acox@britishmarine.co.uk">acox@britishmarine.co.uk</a>&nbsp\;d
 irectly if you would like to invite anyone not currently employed at a mem
 ber company.</p>\n\n<p><a href="https://maps.app.goo.gl/d379PRb2efCQBVPx7"
 >GMaps</a></p>\n</HTML>
CREATED;TZID=Europe/London:20240418T093651
URL;VALUE=URI:https://www.britishmarine.co.uk/membership/events-and-courses
 /british-marine-south-west-agm-and-networking-workshop
DTSTART;TZID=Europe/London:20240508T130000
DTEND;TZID=Europe/London:20240508T160000
SEQUENCE:0
END:VEVENT
END:VCALENDAR
