BEGIN:VCALENDAR
VERSION:2.0
PRODID:-//Sabre//Sabre VObject 4.5.7//EN
CALSCALE:GREGORIAN
BEGIN:VEVENT
UID:sabre-vobject-81f5621c-1766-4cfc-a5d0-0644c18cb434
DTSTAMP:20260421T180711Z
SUMMARY:British Marine Access to Boating Committee Meeting and Open Forum
DESCRIPTION:The committee of British Marine Access to Boating will be meeti
 ng to discuss ongoing projects and plans for the sector. The meeting will 
 be followed by an open forum session for all members.&nbsp\;\n\nFor furthe
 r information\, please contact secretary Hayley Cloke on&nbsp\;hcloke@brit
 ishmarine.co.uk\n
X-ALT-DESC:FMTTYPE=text/html:<!DOCTYPE HTML PUBLIC "-//W3C//DTD HTML 3.2//E
 N"><HTML><p>The committee of British Marine Access to Boating will be meet
 ing to discuss ongoing projects and plans for the sector. The meeting will
  be followed by an open forum session for all members.&nbsp\;</p>\n\n<p>Fo
 r further information\, please contact secretary Hayley Cloke on&nbsp\;hcl
 oke@britishmarine.co.uk</p>\n</HTML>
CREATED;TZID=Europe/London:20240415T121913
URL;VALUE=URI:https://www.britishmarine.co.uk/membership/events-and-courses
 /british-marine-access-boating-committee-meeting-and-open-forum
DTSTART;TZID=Europe/London:20240509T100000
DTEND;TZID=Europe/London:20240509T123000
SEQUENCE:0
END:VEVENT
END:VCALENDAR
