BEGIN:VCALENDAR
VERSION:2.0
PRODID:-//Sabre//Sabre VObject 4.5.7//EN
CALSCALE:GREGORIAN
BEGIN:VEVENT
UID:sabre-vobject-1cd095db-d8a1-42ad-b875-3498dd35cf11
DTSTAMP:20260420T205518Z
SUMMARY:British Marine Council Meeting
DESCRIPTION:British Marine Council will be meeting to discuss ongoing proje
 cts and plans.\n\nFor further information\, please contact Jayne on jpater
 son@britishmarine.co.uk\n
X-ALT-DESC:FMTTYPE=text/html:<!DOCTYPE HTML PUBLIC "-//W3C//DTD HTML 3.2//E
 N"><HTML><p>British Marine Council will be meeting to discuss ongoing proj
 ects and plans.</p>\n\n<p>For further information\, please contact Jayne o
 n jpaterson@britishmarine.co.uk</p>\n</HTML>
CREATED;TZID=Europe/London:20240415T122446
URL;VALUE=URI:https://www.britishmarine.co.uk/events-and-courses/british-ma
 rine-council-meeting
DTSTART;TZID=Europe/London:20240515T103000
DTEND;TZID=Europe/London:20240515T143000
SEQUENCE:0
END:VEVENT
END:VCALENDAR
