BEGIN:VCALENDAR
VERSION:2.0
PRODID:-//Sabre//Sabre VObject 4.5.7//EN
CALSCALE:GREGORIAN
BEGIN:VEVENT
UID:sabre-vobject-48259834-0808-4431-9dca-0c9c8fd69974
DTSTAMP:20260421T181311Z
SUMMARY:TYHA AGM and Council Meeting
DESCRIPTION:The council of The Yacht Harbour Association will be meeting to
  discuss ongoing projects and plans for the sector.&nbsp\;\n\nFor further 
 information\, please contact secretary Hayley Cloke on&nbsp\;hcloke@britis
 hmarine.co.uk\n
X-ALT-DESC:FMTTYPE=text/html:<!DOCTYPE HTML PUBLIC "-//W3C//DTD HTML 3.2//E
 N"><HTML><p>The council of The Yacht Harbour Association will be meeting t
 o discuss ongoing projects and plans for the sector.&nbsp\;</p>\n\n<p>For 
 further information\, please contact secretary Hayley Cloke on&nbsp\;hclok
 e@britishmarine.co.uk</p>\n</HTML>
CREATED;TZID=Europe/London:20240415T123433
URL;VALUE=URI:https://www.britishmarine.co.uk/membership/events-and-courses
 /tyha-agm-and-council-meeting
DTSTART;TZID=Europe/London:20240605T100000
DTEND;TZID=Europe/London:20240605T140000
SEQUENCE:0
END:VEVENT
END:VCALENDAR
