BEGIN:VCALENDAR
VERSION:2.0
PRODID:-//Sabre//Sabre VObject 4.5.7//EN
CALSCALE:GREGORIAN
BEGIN:VEVENT
UID:sabre-vobject-13650afb-ad36-4500-a11e-096300786bd4
DTSTAMP:20260422T083519Z
SUMMARY:British Marine South West Board Meeting
DESCRIPTION:The Board of British Marine South West will be meeting to discu
 ss ongoing projects and plans for the region.&nbsp\;\n\nFor further inform
 ation\, please contact secretary Amy Cox on&nbsp\;acox@britishmarine.co.uk
 \n
X-ALT-DESC:FMTTYPE=text/html:<!DOCTYPE HTML PUBLIC "-//W3C//DTD HTML 3.2//E
 N"><HTML><p>The Board of British Marine South West will be meeting to disc
 uss ongoing projects and plans for the region.&nbsp\;</p>\n\n<p>For furthe
 r information\, please contact secretary Amy Cox on&nbsp\;acox@britishmari
 ne.co.uk</p>\n</HTML>
CREATED;TZID=Europe/London:20240415T123348
URL;VALUE=URI:https://www.britishmarine.co.uk/membership/events-and-courses
 /british-marine-south-west-board-meeting
DTSTART;TZID=Europe/London:20240611T140000
DTEND;TZID=Europe/London:20240611T160000
SEQUENCE:0
END:VEVENT
END:VCALENDAR
