BEGIN:VCALENDAR
VERSION:2.0
PRODID:-//Sabre//Sabre VObject 4.5.7//EN
CALSCALE:GREGORIAN
BEGIN:VEVENT
UID:sabre-vobject-0f417bca-488e-4a01-a649-4c65bce24139
DTSTAMP:20260420T044521Z
SUMMARY:British Marine Board Meeting
DESCRIPTION:The British Marine will be meeting to discuss ongoing projects 
 and plans.&nbsp\;\n\nFor further information\, please contact Jayne Paters
 on on&nbsp\;jpaterson@britishmarine.co.uk\n
X-ALT-DESC:FMTTYPE=text/html:<!DOCTYPE HTML PUBLIC "-//W3C//DTD HTML 3.2//E
 N"><HTML><p>The British Marine will be meeting to discuss ongoing projects
  and plans.&nbsp\;</p>\n\n<p>For further information\, please contact Jayn
 e Paterson on&nbsp\;jpaterson@britishmarine.co.uk</p>\n</HTML>
CREATED;TZID=Europe/London:20240415T124049
URL;VALUE=URI:https://www.britishmarine.co.uk/events-and-courses/british-ma
 rine-board-meeting
DTSTART;TZID=Europe/London:20240717T000000
DTEND;TZID=Europe/London:20240717T235959
SEQUENCE:0
END:VEVENT
END:VCALENDAR
