BEGIN:VCALENDAR
VERSION:2.0
PRODID:-//Sabre//Sabre VObject 4.5.7//EN
CALSCALE:GREGORIAN
BEGIN:VEVENT
UID:sabre-vobject-c502c816-1ae2-429a-a753-de8ac5dd17a4
DTSTAMP:20260421T175854Z
SUMMARY:British Marine Electrical Technician (BMET)- Warwick 
DESCRIPTION:A&nbsp\;practical and stimulating two-day course that provides 
 the skills needed for the installation and maintenance of electrics on boa
 ts\, leading to an industry-recognised qualification. Suitable for electri
 cal engineers looking to further their knowledge and skills and gain a qua
 lification in marine electrics.&nbsp\;\n\nA two-day course based around th
 e BMEEA Code of Practice\, the industry-recommended standard. The course i
 s designed to give candidates a general overview of the knowledge and skil
 ls required for a BMEEA-certified Marine Electrical Technician. All inform
 ation and required knowledge used mainly with UK marine electric systems a
 nd follows not only the BMEEA Code of Practice and ISOs\, but also the Rec
 reational Craft Regulations (RCR).\n\nPlease click here to book your place
 \n
X-ALT-DESC:FMTTYPE=text/html:<!DOCTYPE HTML PUBLIC "-//W3C//DTD HTML 3.2//E
 N"><HTML><p>A&nbsp\;practical and stimulating two-day course that provides
  the skills needed for the installation and maintenance of electrics on bo
 ats\, leading to an industry-recognised qualification. Suitable for electr
 ical engineers looking to further their knowledge and skills and gain a qu
 alification in marine electrics.&nbsp\;</p>\n\n<p>A two-day course based a
 round the BMEEA Code of Practice\, the industry-recommended standard. The 
 course is designed to give candidates a general overview of the knowledge 
 and skills required for a BMEEA-certified Marine Electrical Technician. Al
 l information and required knowledge used mainly with UK marine electric s
 ystems and follows not only the BMEEA Code of Practice and ISOs\, but also
  the Recreational Craft Regulations (RCR).</p>\n\n<p>Please click <a href=
 "https://forms.office.com/Pages/DesignPageV2.aspx?origin=NeoPortalPage&amp
 \;subpage=design&amp\;id=48Ignm-jd0qAss1GVVEwvlC1bktaOH9DsC-F40zDIORURFc2M
 0pFTDlSVUxHWElIWkFCNkc4UU1LOCQlQCN0PWcu">here</a> to book your place</p>\n
 </HTML>
CREATED;TZID=Europe/London:20241003T091410
URL;VALUE=URI:https://www.britishmarine.co.uk/training/our-courses/british-
 marine-electrical-technician-bmet-1
DTSTART;TZID=Europe/London:20241014T090000
DTEND;TZID=Europe/London:20241015T170000
SEQUENCE:0
END:VEVENT
END:VCALENDAR
