BEGIN:VCALENDAR
VERSION:2.0
PRODID:-//Sabre//Sabre VObject 4.5.7//EN
CALSCALE:GREGORIAN
BEGIN:VEVENT
UID:sabre-vobject-06d22595-c7c8-490f-b3a5-0e918aeaba51
DTSTAMP:20260421T175931Z
SUMMARY:Basic Marine Electronics Installer 
DESCRIPTION:An informative one-day course that provides all the skills and 
 knowledge electronic installers need for installation and maintenance of e
 lectronics on boats\, leading to an industry recognised qualification. Aim
 ed at individuals with at least one year&rsquo\;s experience in electronic
 s.\n\nThe Marine Electronics Installer (MEI) certificate is an indication 
 of a working knowledge of NMEA&rsquo\;s Installation Standard\, which clar
 ifies and defines competent installation practices. A Marine Electronics I
 nstaller has demonstrated this proficiency by passing an examination desig
 ned to measure understanding of those principles.\n\nSuitable for electron
 ics engineers with at least a year&rsquo\;s experience\, who are looking t
 o further their knowledge and gaining a qualification in marine electronic
 s.\n\nTopics include ground systems\, electrical systems\, equipment insta
 llation and data communications including extensive information on everyth
 ing you need to know about marine electronics to carrying out electronics 
 work on boats.\n\nContact Vicki -&nbsp\;vcrossley@britishmarine.co.uk&nbsp
 \;for more information\n
X-ALT-DESC:FMTTYPE=text/html:<!DOCTYPE HTML PUBLIC "-//W3C//DTD HTML 3.2//E
 N"><HTML><p>An informative one-day course that provides all the skills and
  knowledge electronic installers need for installation and maintenance of 
 electronics on boats\, leading to an industry recognised qualification. Ai
 med at individuals with at least one year&rsquo\;s experience in electroni
 cs.</p>\n\n<p>The Marine Electronics Installer (MEI) certificate is an ind
 ication of a working knowledge of NMEA&rsquo\;s Installation Standard\, wh
 ich clarifies and defines competent installation practices. A Marine Elect
 ronics Installer has demonstrated this proficiency by passing an examinati
 on designed to measure understanding of those principles.</p>\n\n<p>Suitab
 le for electronics engineers with at least a year&rsquo\;s experience\, wh
 o are looking to further their knowledge and gaining a qualification in ma
 rine electronics.</p>\n\n<p>Topics include ground systems\, electrical sys
 tems\, equipment installation and data communications including extensive 
 information on everything you need to know about marine electronics to car
 rying out electronics work on boats.</p>\n\n<p><strong>Contact Vicki -&nbs
 p\;<a href="mailto:vcrossley@britishmarine.co.uk">vcrossley@britishmarine.
 co.uk</a>&nbsp\;for more information</strong></p>\n</HTML>
CREATED;TZID=Europe/London:20241022T155302
URL;VALUE=URI:https://www.britishmarine.co.uk/training/our-courses/british-
 marine-electronics-installer-1
DTSTART;TZID=Europe/London:20241030T090000
DTEND;TZID=Europe/London:20241030T170000
SEQUENCE:0
END:VEVENT
END:VCALENDAR
