BEGIN:VCALENDAR
VERSION:2.0
PRODID:-//Sabre//Sabre VObject 4.5.7//EN
CALSCALE:GREGORIAN
BEGIN:VEVENT
UID:sabre-vobject-8eb08354-5b80-4fea-af6c-062a89826688
DTSTAMP:20260421T181155Z
SUMMARY:British Marine Engines & Equipment Committee Meeting
DESCRIPTION:British Marine Engines &amp\; Equipment Committee will be meeti
 ng to discuss relevant sector issues.&nbsp\;\n\nFor further details\, plea
 se contact NSanders@britishmarine.co.uk\n
X-ALT-DESC:FMTTYPE=text/html:<!DOCTYPE HTML PUBLIC "-//W3C//DTD HTML 3.2//E
 N"><HTML><p>British Marine Engines &amp\; Equipment Committee will be meet
 ing to discuss relevant sector issues.&nbsp\;</p>\n\n<p>For further detail
 s\, please contact NSanders@britishmarine.co.uk</p>\n</HTML>
CREATED;TZID=Europe/London:20240501T145317
URL;VALUE=URI:https://www.britishmarine.co.uk/membership/events-and-courses
 /british-marine-engines-and-equipment-committee-meeting
DTSTART;TZID=Europe/London:20240514T100000
DTEND;TZID=Europe/London:20240514T120000
SEQUENCE:0
END:VEVENT
END:VCALENDAR
