BEGIN:VCALENDAR
VERSION:2.0
PRODID:-//Sabre//Sabre VObject 4.5.7//EN
CALSCALE:GREGORIAN
BEGIN:VEVENT
UID:sabre-vobject-88f63124-b9aa-4d97-bb77-48a7bd414982
DTSTAMP:20260421T175548Z
SUMMARY:British Marine Midlands AGM
DESCRIPTION:
X-ALT-DESC:FMTTYPE=text/html:<!DOCTYPE HTML PUBLIC "-//W3C//DTD HTML 3.2//E
 N"><HTML></HTML>
CREATED;TZID=Europe/London:20240619T165141
URL;VALUE=URI:https://www.britishmarine.co.uk/membership/events-and-courses
 /british-marine-midlands-agm
DTSTART;TZID=Europe/London:20241113T093000
DTEND;TZID=Europe/London:20241113T100000
SEQUENCE:0
END:VEVENT
END:VCALENDAR
